BEGIN:VCALENDAR
VERSION:2.0
PRODID:-//A cannabis lifestyle - ECPv6.15.15//NONSGML v1.0//EN
CALSCALE:GREGORIAN
METHOD:PUBLISH
X-ORIGINAL-URL:https://strainsandstoners.com
X-WR-CALDESC:Events for A cannabis lifestyle
REFRESH-INTERVAL;VALUE=DURATION:PT1H
X-Robots-Tag:noindex
X-PUBLISHED-TTL:PT1H
BEGIN:VTIMEZONE
TZID:UTC
BEGIN:STANDARD
TZOFFSETFROM:+0000
TZOFFSETTO:+0000
TZNAME:UTC
DTSTART:20210101T000000
END:STANDARD
END:VTIMEZONE
BEGIN:VTIMEZONE
TZID:Europe/Paris
BEGIN:DAYLIGHT
TZOFFSETFROM:+0100
TZOFFSETTO:+0200
TZNAME:CEST
DTSTART:20220327T010000
END:DAYLIGHT
BEGIN:STANDARD
TZOFFSETFROM:+0200
TZOFFSETTO:+0100
TZNAME:CET
DTSTART:20221030T010000
END:STANDARD
BEGIN:DAYLIGHT
TZOFFSETFROM:+0100
TZOFFSETTO:+0200
TZNAME:CEST
DTSTART:20230326T010000
END:DAYLIGHT
BEGIN:STANDARD
TZOFFSETFROM:+0200
TZOFFSETTO:+0100
TZNAME:CET
DTSTART:20231029T010000
END:STANDARD
BEGIN:DAYLIGHT
TZOFFSETFROM:+0100
TZOFFSETTO:+0200
TZNAME:CEST
DTSTART:20240331T010000
END:DAYLIGHT
BEGIN:STANDARD
TZOFFSETFROM:+0200
TZOFFSETTO:+0100
TZNAME:CET
DTSTART:20241027T010000
END:STANDARD
BEGIN:DAYLIGHT
TZOFFSETFROM:+0100
TZOFFSETTO:+0200
TZNAME:CEST
DTSTART:20250330T010000
END:DAYLIGHT
BEGIN:STANDARD
TZOFFSETFROM:+0200
TZOFFSETTO:+0100
TZNAME:CET
DTSTART:20251026T010000
END:STANDARD
END:VTIMEZONE
BEGIN:VEVENT
DTSTART;VALUE=DATE:20250624
DTEND;VALUE=DATE:20250626
DTSTAMP:20260423T083819
CREATED:20241110T090025Z
LAST-MODIFIED:20241110T090025Z
UID:5566-1750723200-1750895999@strainsandstoners.com
SUMMARY:Cannabis Europa 2025
DESCRIPTION:At Cannabis Europa\, more than 150O leaders from the cannabis industry\, investors and key politicians gather in London to drive the European cannabis industry and your business forward. Furthermore\, Cannabis Europa will be holding a boutique industry expo\, showcasing more than 40 businesses as the cream of the European cannabis crop\, acting as a jumping off point for growing your business in Europe and beyond. \nAs the cannabis industry gains exponential momentum globally\, the European cannabis also is on the brink of transformative growth\, with significant advancements in medical cannabis\, progressive regulatory shifts\, and an accelerating market for adult-use products.
URL:https://strainsandstoners.com/event/cannabis-europa-2025/
END:VEVENT
BEGIN:VEVENT
DTSTART;VALUE=DATE:20250619
DTEND;VALUE=DATE:20250623
DTSTAMP:20260423T083819
CREATED:20241110T090627Z
LAST-MODIFIED:20241110T090627Z
UID:5569-1750291200-1750636799@strainsandstoners.com
SUMMARY:Mary Jane Berlin
DESCRIPTION:Berlin – a city known for its cultural diversity\, vibrant art scene and open atmosphere – is home to an event that represents the heart of cannabis culture: The Mary Jane Berlin. Since its inception in 2016\, Mary Jane Berlin has established itself as Germany’s oldest and most renowned cannabis fair. Year after year\, enthusiasts\, connoisseurs and the curious flock from all over the world to take part in this extraordinary event. It’s a place where innovation is celebrated\, ideas are exchanged and inspiration is found. From the latest trends in the cannabis industry to groundbreaking developments in medicine – you’ll find it all here. All the well-known brands in the industry are represented here\, giving visitors the opportunity to discover and experience the highest quality products first-hand. \nIn addition\, Mary Jane Berlin has also established itself as Europe’s largest cannabis festival\, attracting thousands of visitors each year to come together and celebrate the diverse culture surrounding cannabis. The festival is not only a feast for the mind\, but also for the senses. From artful exhibitions to live demos\, the event offers a variety of experiences to engage all your senses.
URL:https://strainsandstoners.com/event/mary-jane-berlin/
LOCATION:Messe Berlin\, Hammarskjöldplatz\, Eingang Nord\, Berlin\, 14055\, Germany
END:VEVENT
BEGIN:VEVENT
DTSTART;VALUE=DATE:20250429
DTEND;VALUE=DATE:20250501
DTSTAMP:20260423T083819
CREATED:20241110T174438Z
LAST-MODIFIED:20241110T174438Z
UID:5591-1745884800-1746057599@strainsandstoners.com
SUMMARY:International Cannabis Business Day Berlin
DESCRIPTION:Cannabis policy modernization is sweeping across the European continent and Germany is at the forefront. Already home to the largest medical cannabis industry in Europe\, Germany’s adult-use industry is ramping up after the first components of the CanG law were implemented at the start of April 2024. \nThe International Cannabis Business Conference is once again bringing our flagship event to Berlin and offering a unique combination of education\, networking\, and entertainment. The International Cannabis Business Conference in Berlin is Europe’s largest and longest-running industry B2B event and serves as Germany’s biggest annual gathering of influential political and business leaders. \nWhat could take years to accomplish in a normal working environment can be achieved in just two days at the International Cannabis Business Conference in Berlin. Place your company and brand in the center of it all – the one and only Berlin International Cannabis Business Conference. \n 
URL:https://strainsandstoners.com/event/international-cannabis-business-day-berlin/
END:VEVENT
BEGIN:VEVENT
DTSTART;VALUE=DATE:20250314
DTEND;VALUE=DATE:20250317
DTSTAMP:20260423T083819
CREATED:20241110T114046Z
LAST-MODIFIED:20241110T114046Z
UID:5580-1741910400-1742169599@strainsandstoners.com
SUMMARY:Spannabis 2025
DESCRIPTION:Spain’s most important 3-days cannabis fair where exhibitors\, professionals and visitors from the cannabis sector will be able to exchange opinions and have the opportunity to create new contacts and search for potential clients.
URL:https://strainsandstoners.com/event/spannabis-2025/
LOCATION:Fira de Cornellá\, Avenida de la Fama s/n\, Cornellà de Llobregat\, Barcelona\, 08940\, Spain
ATTACH;FMTTYPE=image/jpeg:https://strainsandstoners.com/wp-content/uploads/2024/11/spannabis-2025.jpg
END:VEVENT
BEGIN:VEVENT
DTSTART;VALUE=DATE:20250314
DTEND;VALUE=DATE:20250316
DTSTAMP:20260423T083819
CREATED:20241110T113440Z
LAST-MODIFIED:20241110T113652Z
UID:5576-1741910400-1742083199@strainsandstoners.com
SUMMARY:World Cannabis Conference
DESCRIPTION:In March 2025\, the 12th edition of the World Cannabis Conference will be held together with Spannabis. \nThe World Canabis Conference have become a reference event thanks to the transmission of advances and efforts carried out in the field of cannabis. Through thematic blocks in forum format\, and also specific conferences\, we intend to delve into the different dimensions of this controversial plant. It is essential to approach regulation from an international perspective\, to analyze in depth the problems experienced in Spain\, to approximate the scientific perspective for a better understanding of the potential and viability of standardization\, and to understand the medical needs of sick people and the progress that is being made despite the prohibition. \nThe World Cannabis Conference will be held in a framework of reflection in which the attendees will have the possibility of being part of the debate and transfer their questions to the speakers.
URL:https://strainsandstoners.com/event/world-cannabis-conference/
LOCATION:Fira de Cornellá\, Avenida de la Fama s/n\, Cornellà de Llobregat\, Barcelona\, 08940\, Spain
ATTACH;FMTTYPE=image/png:https://strainsandstoners.com/wp-content/uploads/2024/11/world-cannabis-conference.png
END:VEVENT
BEGIN:VEVENT
DTSTART;VALUE=DATE:20250313
DTEND;VALUE=DATE:20250314
DTSTAMP:20260423T083819
CREATED:20241110T114623Z
LAST-MODIFIED:20241110T114623Z
UID:5584-1741824000-1741910399@strainsandstoners.com
SUMMARY:International Cannabis Business Conference Barcelona
DESCRIPTION:The International Cannabis Business Conference (ICBC) is Spain’s most important cannabis business meeting\, in 2025 held for the 4th time. \nThe ICBC has become one of the leading B2B cannabis networking events in the world. The Barcelona ICBC will take place in the Cornellà Auditorium and a VIP party will be held during the night.
URL:https://strainsandstoners.com/event/international-cannabis-business-conference-barcelona/
LOCATION:Fira de Cornellá\, Avenida de la Fama s/n\, Cornellà de Llobregat\, Barcelona\, 08940\, Spain
ATTACH;FMTTYPE=image/png:https://strainsandstoners.com/wp-content/uploads/2024/11/international-cannabis-business-conference-barcelona.png
END:VEVENT
BEGIN:VEVENT
DTSTART;VALUE=DATE:20241213
DTEND;VALUE=DATE:20241214
DTSTAMP:20260423T083819
CREATED:20241110T173653Z
LAST-MODIFIED:20241110T173653Z
UID:5587-1734048000-1734134399@strainsandstoners.com
SUMMARY:PCN Cannabis Congres
DESCRIPTION:The PCN Cannabis Congres 2024 will host 4 panel debates with leading cannabis entrepreneurs and experts\, presented with knowledge\, speed and humor by BNR figurehead Bas van Werven. The central themes at the congress will be the cannabis experiment in The Netherlands and the developments around cannabis in Germany. \nThe cannabis experiment has been running since June 17 in all 10 participating municipalities. Germany in the meanwhile has decriminalized possession\, home cultivation and non-commercial cannabis clubs as of April 1. That is the first pillar of the new cannabis law\, the second consists of pilot projects with commercial cultivation and sales. But how and when? A number of insiders discuss the developments and prospects in the largest and richest EU country. \nThe PCN Cannabis Congres 2024 will finish with a street food dinner and the presentation of the Cannabis Industry Awards.
URL:https://strainsandstoners.com/event/pcn-cannabis-congres/
LOCATION:Evoluon\, Noord Brabantlaan 1A\, Eindhoven\, 5652 LA\, Netherlands
END:VEVENT
BEGIN:VEVENT
DTSTART;VALUE=DATE:20241126
DTEND;VALUE=DATE:20241127
DTSTAMP:20260423T083819
CREATED:20241110T175011Z
LAST-MODIFIED:20241110T175011Z
UID:5593-1732579200-1732665599@strainsandstoners.com
SUMMARY:Business of Cannabis: Berlin Executive Summit
DESCRIPTION:Germany’s progressive stance on cannabis regulation has seen the country be at the forefront of the cannabis legalisation conversation in Europe for the last two years\, fostering a rapidly growing market with significant potential. Already the largest medical cannabis market in Europe by way of sales and patient numbers\, paired with the impending launch of a fully-regulated adult-use market\, Germany is central to the European cannabis industry’s hopes for a bigger and brighter future. \nThe combined network of Business of Cannabis and Prohibition Partners is the largest B2B audience in the global cannabis industry\, ensuring each summit attracts a diverse\, and international audience of business leaders and key decision makers from a variety of industries. \nThe conference agenda will include a wide range of topics and themes to explore the current state of play and future outlook for the German adult-use and medical cannabis markets.
URL:https://strainsandstoners.com/event/business-of-cannabis-berlin-executive-summit/
END:VEVENT
BEGIN:VEVENT
DTSTART;TZID=Europe/Paris:20240315T083000
DTEND;TZID=Europe/Paris:20240315T233000
DTSTAMP:20260423T083819
CREATED:20230826T183942Z
LAST-MODIFIED:20230826T183942Z
UID:2112-1710491400-1710545400@strainsandstoners.com
SUMMARY:Spannabis Champions Cup 2024
DESCRIPTION:Spannabis is an international cannabis fair taking place since the early 2000s. The World Cannabis conferences and Spannabis Champions Cup also take place around the fair as well as many smaller unofficial events throughout Barcelona.
URL:https://strainsandstoners.com/event/spannabis-champions-cup-2024/
LOCATION:Fira de Cornellá\, Business Center.\, Avenida de la Fama s/n\, Cornellà de Llobregat – Barcelona\, 08940\, Spain
ORGANIZER;CN="Feria del C%C3%A1%C3%B1amo SL":MAILTO:info@spannabis.com
END:VEVENT
BEGIN:VEVENT
DTSTART;TZID=Europe/Paris:20240310T083000
DTEND;TZID=Europe/Paris:20240310T130000
DTSTAMP:20260423T083819
CREATED:20231217T220413Z
LAST-MODIFIED:20231217T220413Z
UID:2224-1710059400-1710075600@strainsandstoners.com
SUMMARY:Zurich Barcelona Marathon
DESCRIPTION:The Zurich Barcelona Marathon\, formerly the Marathon Catalunya and later the Marató de Catalunya\, is an annual marathon race held in March in Barcelona\, Catalonia\, Spain.\nMore often\, marathon runners are also discovering the benefits of using cannabis in the preparation of their race.
URL:https://strainsandstoners.com/event/zurich-barcelona-marathon/
END:VEVENT
BEGIN:VEVENT
DTSTART;TZID=Europe/Paris:20230705T080000
DTEND;TZID=Europe/Paris:20230708T170000
DTSTAMP:20260423T083819
CREATED:20230205T173559Z
LAST-MODIFIED:20230205T173559Z
UID:1935-1688544000-1688835600@strainsandstoners.com
SUMMARY:Festival Cruïlla
DESCRIPTION:The Festival Cruïlla held at the Parc del Fòrum in Barcelona is a festival in an unbeatable setting: outdoors and facing the sea. \nThis is an unrepeatable experience. Based on music and accompanied by arts and comedy shows. \nEnjoy the best night of the summer with a day ticket. Or get a Full\, 3 days or 4 days ticket and live the full experience. \nWhile cannabis is officially not allowed at the festival\, some social clubs are hosting side events to enhance your festival experience.
URL:https://strainsandstoners.com/event/festival-cruilla/
LOCATION:Parc del Fòrum\, Muelle de la Marina Seca\, Carrer de la Pau\, 12.\, San Adrià del Besòs\, 08930\, Spain
END:VEVENT
BEGIN:VEVENT
DTSTART;TZID=Europe/Paris:20230615T080000
DTEND;TZID=Europe/Paris:20230617T170000
DTSTAMP:20260423T083819
CREATED:20230205T174316Z
LAST-MODIFIED:20230205T174316Z
UID:1936-1686816000-1687021200@strainsandstoners.com
SUMMARY:Sónar 2023
DESCRIPTION:The 30th anniversary of Sónar promises to be a spectacular celebration\, a huge party that will include more than 100 live shows and DJ sets. As always\, the festival features the newest and most influential sounds of contemporary electronic music\, from dance-floor heat to experiments that explore new sonic languages. \nThe lineup for the 30th anniversary pays tribute to club culture\, celebrating both the DJ as a current-day cultural symbol and the diversity of styles in today’s global scene. With both emblematic artists and the hottest new names\, thirty years after its birth Sónar remains a space for discovery and inspiration\, serving as a mirror and platform for local and international artists. \nSónar does not allow you to smoke at its venues\, but there is alwaays a social club nearby. Feel free to contact us for an introduction.
URL:https://strainsandstoners.com/event/sonar-2023/
END:VEVENT
BEGIN:VEVENT
DTSTART;TZID=Europe/Paris:20230602T080000
DTEND;TZID=Europe/Paris:20230604T170000
DTSTAMP:20260423T083819
CREATED:20230205T180052Z
LAST-MODIFIED:20230205T180052Z
UID:1939-1685692800-1685898000@strainsandstoners.com
SUMMARY:Formula 1 Gran Premio de España 2023
DESCRIPTION:The world championship caravan will stop in Catalonia from 2 to 4 June to offer a truly spectacular show. The event will be a huge show starring the Spanish heroes Fernando Alonso (making his debut with the Aston Martin team) and Carlos Sainz (who will continue his development with the legendary Maranello-based team). \nThe F1 attracts a crowd from all over the world\, many of them arriving early to combine their Formula 1 weekend with a city trip to Barcelona\, visiting clubs where they can relax in a fine environment.
URL:https://strainsandstoners.com/event/formula-1-gran-premio-de-espana-2023/
LOCATION:Circuit de Barcelona-Catalunya\, Carrer Mas Moreneta\, Barcelona\, 08160\, Spain
END:VEVENT
BEGIN:VEVENT
DTSTART;TZID=Europe/Paris:20230529T080000
DTEND;TZID=Europe/Paris:20230604T170000
DTSTAMP:20260423T083819
CREATED:20230205T175343Z
LAST-MODIFIED:20230205T175343Z
UID:1938-1685347200-1685898000@strainsandstoners.com
SUMMARY:Primavera Sound 2023 Barcelona
DESCRIPTION:Primavera Sound is one of the world’s best known music events. The festival presents all genres including pop\, indie\, rock and the most underground tendencies of electronic and dance music. Some cannabis social clubs host events to get you in the mood before you enjoy your music experience.
URL:https://strainsandstoners.com/event/primavera-sound-2023-barcelona/
LOCATION:Parc del Fòrum\, Muelle de la Marina Seca\, Carrer de la Pau\, 12.\, San Adrià del Besòs\, 08930\, Spain
END:VEVENT
BEGIN:VEVENT
DTSTART;TZID=Europe/Paris:20230331T080000
DTEND;TZID=Europe/Paris:20230402T170000
DTSTAMP:20260423T083819
CREATED:20230205T174912Z
LAST-MODIFIED:20230205T174912Z
UID:1937-1680249600-1680454800@strainsandstoners.com
SUMMARY:Comic Barcelona
DESCRIPTION:Barcelona International Comic Fair is an annual fair and convention of authors\, publishers and comic readers. It takes place in the city of Barcelona since 1981\, and is an event of reference on the Spanish comic market. \nIt is no secret that many people who enjoy comics\, also enjoy weed! Some of the cannabis social clubs in Barcelona will invite you to come and enjoy a coffee and a joint after you left the fair.
URL:https://strainsandstoners.com/event/comic-barcelona/
END:VEVENT
BEGIN:VEVENT
DTSTART;TZID=Europe/Paris:20230310T000000
DTEND;TZID=Europe/Paris:20230312T233000
DTSTAMP:20260423T083819
CREATED:20230126T132224Z
LAST-MODIFIED:20230126T132224Z
UID:1428-1678406400-1678663800@strainsandstoners.com
SUMMARY:Spannabis 2023
DESCRIPTION:The celebration of Spannabis has become a classics set on our agenda as an unavoidable date. After two years without a physical event\, the time has come to officially announce that on 11\, 12 and 13 March 2022\, Fira de Cornellà will become the hemp hub of Europe. \nDuring three days visitors\, exhibitors and professionals from the cannabis sector will be able to exchange opinions\, make new contacts and look for potential clients. \nWithin a truly international setting internacional\, people will have the chance to attend conferences and learn from industry experts; visit stands and consult information about services and products of all exhibiting companies.
URL:https://strainsandstoners.com/event/spannabis-2023/
LOCATION:Fira de Cornellá\, Business Center.\, Avenida de la Fama s/n\, Cornellà de Llobregat – Barcelona\, 08940\, Spain
ORGANIZER;CN="Feria del C%C3%A1%C3%B1amo SL":MAILTO:info@spannabis.com
END:VEVENT
BEGIN:VEVENT
DTSTART;TZID=Europe/Paris:20230227T080000
DTEND;TZID=Europe/Paris:20230302T170000
DTSTAMP:20260423T083819
CREATED:20230205T172959Z
LAST-MODIFIED:20230205T172959Z
UID:1940-1677484800-1677776400@strainsandstoners.com
SUMMARY:MWC Barcelona 2023
DESCRIPTION:MWC Barcelona is the largest and most influential event for the connectivity ecosystem. Whether you’re a global mobile operator\, device manufacturer\, technology provider\, vendor\, content owner\, or are simply interested in the future of tech\, you need to be here. Many visitors to the congress choose to spend their off-time in a social club or arrive early to enjoy themselves a weekend of relaxation.
URL:https://strainsandstoners.com/event/mwc-barcelona-2023/
LOCATION:Fira Gran Via\, Av. Joan Carles I\, 64\, L'Hospitalet de Llobregat\, 08908\, Spain
END:VEVENT
BEGIN:VEVENT
DTSTART;TZID=UTC:20220323T080000
DTEND;TZID=UTC:20220323T170000
DTSTAMP:20260423T083819
CREATED:20220322T195505Z
LAST-MODIFIED:20220322T195505Z
UID:1304-1648022400-1648054800@strainsandstoners.com
SUMMARY:Crypto
DESCRIPTION:
URL:https://strainsandstoners.com/event/crypto/
LOCATION:Super Siberia\, Barcelona\, Spain
END:VEVENT
END:VCALENDAR